BEGIN:VCALENDAR
PRODID:-//github.com/rianjs/ical.net//NONSGML ical.net 4.0//EN
VERSION:2.0
BEGIN:VTIMEZONE
TZID:America/Chicago
X-LIC-LOCATION:America/Chicago
BEGIN:STANDARD
DTSTART:20241103T020000
RRULE:FREQ=YEARLY;BYDAY=1SU;BYMONTH=11
TZNAME:CST
TZOFFSETFROM:-0500
TZOFFSETTO:-0600
END:STANDARD
BEGIN:DAYLIGHT
DTSTART:20250309T020000
RRULE:FREQ=YEARLY;BYDAY=2SU;BYMONTH=3
TZNAME:CDT
TZOFFSETFROM:-0600
TZOFFSETTO:-0500
END:DAYLIGHT
END:VTIMEZONE
BEGIN:VEVENT
CLASS:PUBLIC
CREATED:20260421T024002Z
DESCRIPTION:Come to a free public information session on the 2022 Affordab
 le Housing Bond what it funds how dollars are being invested across San A
 ntonio and what it means for renters homeowners and older adults in your 
 community.\n https://gwinnettpublicinput.com/H85323
DTEND;TZID=America/Chicago:20260527T193000
DTSTAMP:20260421T024002Z
DTSTART;TZID=America/Chicago:20260527T173000
LOCATION:Mexican American Unity Council\, 2300 West Commerce Street Suite 
 200\, San Antonio\, TX\, USA
SEQUENCE:0
SUMMARY:Your Vote\, Your Impact: Learn How the $150M Housing Bond Supports
  Neighbors
UID:51656034-82d0-48f4-bf35-0f1798581348
END:VEVENT
END:VCALENDAR
