BEGIN:VCALENDAR
PRODID:-//github.com/rianjs/ical.net//NONSGML ical.net 4.0//EN
VERSION:2.0
BEGIN:VTIMEZONE
TZID:America/Chicago
X-LIC-LOCATION:America/Chicago
BEGIN:STANDARD
DTSTART:20241103T020000
RRULE:FREQ=YEARLY;BYDAY=1SU;BYMONTH=11
TZNAME:CST
TZOFFSETFROM:-0500
TZOFFSETTO:-0600
END:STANDARD
BEGIN:DAYLIGHT
DTSTART:20250309T020000
RRULE:FREQ=YEARLY;BYDAY=2SU;BYMONTH=3
TZNAME:CDT
TZOFFSETFROM:-0600
TZOFFSETTO:-0500
END:DAYLIGHT
END:VTIMEZONE
BEGIN:VEVENT
CLASS:PUBLIC
CREATED:20260421T024008Z
DESCRIPTION:\n https://gwinnettpublicinput.com/VW51851
DTEND;TZID=America/Chicago:20260427T200000
DTSTAMP:20260421T024008Z
DTSTART;TZID=America/Chicago:20260427T180000
LOCATION:
SEQUENCE:0
SUMMARY:San Antonio Dr. Martin Luther King\, Jr. Commission Meeting
UID:368e340d-13d2-44db-aeb8-cc7800fc174a
END:VEVENT
END:VCALENDAR
